Workbook
Name _1._Ludność_Polski__w_mln: #REF!
Name Polacy: #REF!

Sheet Kobiety
A1: Liczba urodzeń | B1: Liczba zgonów | C1: Wskaźnik płodności | D1: Wskaźnik umieralności | E1: Wiek populacji | F1: Liczba osób | G1: Liczba osób | H1: Liczba osób | I1: Liczba osób | J1: Liczba osób | K1: Liczba osób | L1: Liczba osób | M1: Liczba osób | N1: Liczba osób | O1: Liczba osób | P1: Liczba osób | Q1: Liczba osób | R1: Liczba osób | S1: Liczba osób | T1: Liczba osób | U1: Liczba osób | V1: Liczba osób | W1: Liczba osób | X1: Liczba osób | Y1: Liczba osób | Z1: Liczba osób | AA1: Liczba osób | AB1: Liczba osób | AC1: Liczba osób | AD1: Liczba osób | AE1: Liczba osób | AF1: Liczba osób | AG1: Liczba osób | AH1: Liczba osób | AI1: Liczba osób | AJ1: Liczba osób | AK1: Liczba osób | AL1: Liczba osób | AM1: Liczba osób | AN1: Liczba osób | AO1: Liczba osób | AP1: Liczba osób | AQ1: Liczba osób | AR1: Liczba osób | AS1: Liczba osób | AT1: Liczba osób | AU1: Liczba osób | AV1: Liczba osób | AW1: Liczba osób | AX1: Liczba osób
A2: K+M | B2: K | F2: 2016 | G2: 2017 | H2: 2018 | I2: 2019 | J2: 2020 | K2: 2021 | L2: 2022 | M2: 2023 | N2: 2024 | O2: 2025 | P2: 2026 | Q2: 2027 | R2: 2028 | S2: 2029 | T2: 2030 | U2: 2031 | V2: 2032 | W2: 2033 | X2: 2034 | Y2: 2035 | Z2: 2036 | AA2: 2037 | AB2: 2038 | AC2: 2039 | AD2: 2040 | AE2: 2041 | AF2: 2042 | AG2: 2043 | AH2: 2044 | AI2: 2045 | AJ2: 2046 | AK2: 2047 | AL2: 2048 | AM2: 2049 | AN2: 2050 | AO2: 2051 | AP2: 2052 | AQ2: 2053 | AR2: 2054 | AS2: 2055 | AT2: 2056 | AU2: 2057 | AV2: 2058 | AW2: 2059 | AX2: 2060
B3: 654 | D3: =B3/F3*1000 -> 3.7112911 | E3: 0 | F3: 176219 | G3: =SUMPRODUCT($C18:$C52,G18:G52)/1000*0.485 -> 182001.5 | H3: =SUMPRODUCT($C18:$C52,H18:H52)/1000*0.485 -> 178177.21 | I3: =SUMPRODUCT($C18:$C52,I18:I52)/1000*0.485 -> 174010.36 | J3: =SUMPRODUCT($C18:$C52,J18:J52)/1000*0.485 -> 169565.43 | K3: =SUMPRODUCT($C18:$C52,K18:K52)/1000*0.485 -> 164903.34 | L3: =SUMPRODUCT($C18:$C52,L18:L52)/1000*0.485 -> 160132.23 | M3: =SUMPRODUCT($C18:$C52,M18:M52)/1000*0.485 -> 155349.26 | N3: =SUMPRODUCT($C18:$C52,N18:N52)/1000*0.485 -> 150685.02 | ... AX3: =SUMPRODUCT($C18:$C52,AX18:AX52)/1000*0.485 -> 87545.344
B4: 42 | D4: =B4/F4*1000 -> 0.2307388 | E4: 1 | F4: 182024 | G4: =F3*(1-$D3/1000) -> 175565 | H4: =G3*(1-$D3/1000) -> 181326.04 | I4: =H3*(1-$D3/1000) -> 177515.94 | J4: =I3*(1-$D3/1000) -> 173364.56 | K4: =J3*(1-$D3/1000) -> 168936.13 | L4: =K3*(1-$D3/1000) -> 164291.34 | M4: =L3*(1-$D3/1000) -> 159537.93 | N4: =M3*(1-$D3/1000) -> 154772.71 | ... AX4: =AW3*(1-$D3/1000) -> 88597.8
B5: 29 | D5: =B5/F5*1000 -> 0.16134237 | E5: 2 | F5: 179742 | G5: =F4*(1-$D4/1000) -> 181982 | H5: =G4*(1-$D4/1000) -> 175524.49 | I5: =H4*(1-$D4/1000) -> 181284.2 | J5: =I4*(1-$D4/1000) -> 177474.98 | K5: =J4*(1-$D4/1000) -> 173324.56 | L5: =K4*(1-$D4/1000) -> 168897.15 | M5: =L4*(1-$D4/1000) -> 164253.43 | N5: =M4*(1-$D4/1000) -> 159501.12 | ... AX5: =AW4*(1-$D4/1000) -> 90110.711
B6: 16 | D6: =B6/F6*1000 -> 0.084768212 | E6: 3 | F6: 188750 | G6: =F5*(1-$D5/1000) -> 179713 | H6: =G5*(1-$D5/1000) -> 181952.64 | I6: =H5*(1-$D5/1000) -> 175496.17 | J6: =I5*(1-$D5/1000) -> 181254.95 | K6: =J5*(1-$D5/1000) -> 177446.34 | L6: =K5*(1-$D5/1000) -> 173296.6 | M6: =L5*(1-$D5/1000) -> 168869.9 | N6: =M5*(1-$D5/1000) -> 164226.93 | ... AX6: =AW5*(1-$D5/1000) -> 91783.689
B7: 12 | D7: =B7/F7*1000 -> 0.063596038 | E7: 4 | F7: 188691 | G7: =F6*(1-$D6/1000) -> 188734 | H7: =G6*(1-$D6/1000) -> 179697.77 | I7: =H6*(1-$D6/1000) -> 181937.21 | J7: =I6*(1-$D6/1000) -> 175481.29 | K7: =J6*(1-$D6/1000) -> 181239.58 | L7: =K6*(1-$D6/1000) -> 177431.3 | M7: =L6*(1-$D6/1000) -> 173281.91 | N7: =M6*(1-$D6/1000) -> 168855.58 | ... AX7: =AW6*(1-$D6/1000) -> 93610.619
B8: 20 | D8: =B8/F8*1000 -> 0.099742664 | E8: 5 | F8: 200516 | G8: =F7*(1-$D7/1000) -> 188679 | H8: =G7*(1-$D7/1000) -> 188722 | I8: =H7*(1-$D7/1000) -> 179686.34 | J8: =I7*(1-$D7/1000) -> 181925.64 | K8: =J7*(1-$D7/1000) -> 175470.13 | L8: =K7*(1-$D7/1000) -> 181228.06 | M8: =L7*(1-$D7/1000) -> 177420.02 | N8: =M7*(1-$D7/1000) -> 173270.89 | ... AX8: =AW7*(1-$D7/1000) -> 95573.198
B9: 17 | D9: =B9/F9*1000 -> 0.081353726 | E9: 6 | F9: 208964 | G9: =F8*(1-$D8/1000) -> 200496 | H9: =G8*(1-$D8/1000) -> 188660.18 | I9: =H8*(1-$D8/1000) -> 188703.17 | J9: =I8*(1-$D8/1000) -> 179668.42 | K9: =J8*(1-$D8/1000) -> 181907.5 | L9: =K8*(1-$D8/1000) -> 175452.63 | M9: =L8*(1-$D8/1000) -> 181209.98 | N9: =M8*(1-$D8/1000) -> 177402.32 | ... AX9: =AW8*(1-$D8/1000) -> 97651.503
B10: 22 | D10: =B10/F10*1000 -> 0.10580789 | E10: 7 | F10: 207924 | G10: =F9*(1-$D9/1000) -> 208947 | H10: =G9*(1-$D9/1000) -> 200479.69 | I10: =H9*(1-$D9/1000) -> 188644.83 | J10: =I9*(1-$D9/1000) -> 188687.82 | K10: =J9*(1-$D9/1000) -> 179653.8 | L10: =K9*(1-$D9/1000) -> 181892.7 | M10: =L9*(1-$D9/1000) -> 175438.36 | N10: =M9*(1-$D9/1000) -> 181195.24 | ... AX10: =AW9*(1-$D9/1000) -> 99823.255
B11: 16 | D11: =B11/F11*1000 -> 0.082320618 | E11: 8 | F11: 194362 | G11: =F10*(1-$D10/1000) -> 207902 | H11: =G10*(1-$D10/1000) -> 208924.89 | I11: =H10*(1-$D10/1000) -> 200458.48 | J11: =I10*(1-$D10/1000) -> 188624.87 | K11: =J10*(1-$D10/1000) -> 188667.86 | L11: =K10*(1-$D10/1000) -> 179634.79 | M11: =L10*(1-$D10/1000) -> 181873.45 | N11: =M10*(1-$D10/1000) -> 175419.8 | ... AX11: =AW10*(1-$D10/1000) -> 102062.95
B12: 7 | D12: =B12/F12*1000 -> 0.037920237 | E12: 9 | F12: 184598 | G12: =F11*(1-$D11/1000) -> 194346 | H12: =G11*(1-$D11/1000) -> 207884.89 | I12: =H11*(1-$D11/1000) -> 208907.69 | J12: =I11*(1-$D11/1000) -> 200441.97 | K12: =J11*(1-$D11/1000) -> 188609.34 | L12: =K11*(1-$D11/1000) -> 188652.33 | M12: =L11*(1-$D11/1000) -> 179620 | N12: =M11*(1-$D11/1000) -> 181858.48 | ... AX12: =AW11*(1-$D11/1000) -> 104339.29
B13: 8 | D13: =B13/F13*1000 -> 0.044959228 | E13: 10 | F13: 177939 | G13: =F12*(1-$D12/1000) -> 184591 | H13: =G12*(1-$D12/1000) -> 194338.63 | I13: =H12*(1-$D12/1000) -> 207877 | J13: =I12*(1-$D12/1000) -> 208899.77 | K13: =J12*(1-$D12/1000) -> 200434.37 | L13: =K12*(1-$D12/1000) -> 188602.19 | M13: =L12*(1-$D12/1000) -> 188645.17 | N13: =M12*(1-$D12/1000) -> 179613.19 | ... AX13: =AW12*(1-$D12/1000) -> 106613.52
B14: 17 | D14: =B14/F14*1000 -> 0.098963215 | E14: 11 | F14: 171781 | G14: =F13*(1-$D13/1000) -> 177931 | H14: =G13*(1-$D13/1000) -> 184582.7 | I14: =H13*(1-$D13/1000) -> 194329.89 | J14: =I13*(1-$D13/1000) -> 207867.66 | K14: =J13*(1-$D13/1000) -> 208890.38 | L14: =K13*(1-$D13/1000) -> 200425.36 | M14: =L13*(1-$D13/1000) -> 188593.71 | N14: =M13*(1-$D13/1000) -> 188636.69 | ... AX14: =AW13*(1-$D13/1000) -> 108837.28
B15: 12 | D15: =B15/F15*1000 -> 0.070892657 | E15: 12 | F15: 169270 | G15: =F14*(1-$D14/1000) -> 171764 | H15: =G14*(1-$D14/1000) -> 177913.39 | I15: =H14*(1-$D14/1000) -> 184564.43 | J15: =I14*(1-$D14/1000) -> 194310.66 | K15: =J14*(1-$D14/1000) -> 207847.09 | L15: =K14*(1-$D14/1000) -> 208869.71 | M15: =L14*(1-$D14/1000) -> 200405.53 | N15: =M14*(1-$D14/1000) -> 188575.05 | ... AX15: =AW14*(1-$D14/1000) -> 110988.4
... B17: 23 | D17: =B17/F17*1000 -> 0.12986866 | E17: 14 | F17: 177102 | G17: =F16*(1-$D16/1000) -> 170723 | H17: =G16*(1-$D16/1000) -> 169240.16 | I17: =H16*(1-$D16/1000) -> 171733.72 | J17: =I16*(1-$D16/1000) -> 177882.02 | K17: =J16*(1-$D16/1000) -> 184531.89 | L17: =K16*(1-$D16/1000) -> 194276.4 | M17: =L16*(1-$D16/1000) -> 207810.44 | N17: =M16*(1-$D16/1000) -> 208832.88 | ... AX17: =AW16*(1-$D16/1000) -> 114907.59
A18: 205 | B18: 16 | C18: =A18/F18*1000 -> 1.1264046 | D18: =B18/F18*1000 -> 0.087914503 | E18: 15 | F18: 181995 | G18: =F17*(1-$D17/1000) -> 177079 | H18: =G17*(1-$D17/1000) -> 170700.83 | I18: =H17*(1-$D17/1000) -> 169218.18 | J18: =I17*(1-$D17/1000) -> 171711.41 | K18: =J17*(1-$D17/1000) -> 177858.92 | L18: =K17*(1-$D17/1000) -> 184507.93 | M18: =L17*(1-$D17/1000) -> 194251.17 | N18: =M17*(1-$D17/1000) -> 207783.45 | ... AX18: =AW17*(1-$D17/1000) -> 116620.76
A19: 769 | B19: 35 | C19: =A19/F19*1000 -> 4.1851023 | D19: =B19/F19*1000 -> 0.1904793 | E19: 16 | F19: 183747 | G19: =F18*(1-$D18/1000) -> 181979 | H19: =G18*(1-$D18/1000) -> 177063.43 | I19: =H18*(1-$D18/1000) -> 170685.82 | J19: =I18*(1-$D18/1000) -> 169203.3 | K19: =J18*(1-$D18/1000) -> 171696.32 | L19: =K18*(1-$D18/1000) -> 177843.29 | M19: =L18*(1-$D18/1000) -> 184491.71 | N19: =M18*(1-$D18/1000) -> 194234.1 | ... AX19: =AW18*(1-$D18/1000) -> 118158.1
A20: 1696 | B20: 38 | C20: =A20/F20*1000 -> 8.9841929 | D20: =B20/F20*1000 -> 0.20129678 | E20: 17 | F20: 188776 | G20: =F19*(1-$D19/1000) -> 183712 | H20: =G19*(1-$D19/1000) -> 181944.34 | I20: =H19*(1-$D19/1000) -> 177029.71 | J20: =I19*(1-$D19/1000) -> 170653.31 | K20: =J19*(1-$D19/1000) -> 169171.07 | L20: =K19*(1-$D19/1000) -> 171663.61 | M20: =L19*(1-$D19/1000) -> 177809.41 | N20: =M19*(1-$D19/1000) -> 184456.57 | ... AX20: =AW19*(1-$D19/1000) -> 119507.22
A21: 3265 | B21: 50 | C21: =A21/F21*1000 -> 16.533906 | D21: =B21/F21*1000 -> 0.25319917 | E21: 18 | F21: 197473 | G21: =F20*(1-$D20/1000) -> 188738 | H21: =G20*(1-$D20/1000) -> 183675.02 | I21: =H20*(1-$D20/1000) -> 181907.71 | J21: =I20*(1-$D20/1000) -> 176994.07 | K21: =J20*(1-$D20/1000) -> 170618.96 | L21: =K20*(1-$D20/1000) -> 169137.02 | M21: =L20*(1-$D20/1000) -> 171629.06 | N21: =M20*(1-$D20/1000) -> 177773.62 | ... AX21: =AW20*(1-$D20/1000) -> 120622.13
A22: 5337 | B22: 49 | C22: =A22/F22*1000 -> 25.996103 | D22: =B22/F22*1000 -> 0.23867511 | E22: 19 | F22: 205300 | G22: =F21*(1-$D21/1000) -> 197423 | H22: =G21*(1-$D21/1000) -> 188690.21 | I22: =H21*(1-$D21/1000) -> 183628.51 | J22: =I21*(1-$D21/1000) -> 181861.65 | K22: =J21*(1-$D21/1000) -> 176949.26 | L22: =K21*(1-$D21/1000) -> 170575.76 | M22: =L21*(1-$D21/1000) -> 169094.19 | N22: =M21*(1-$D21/1000) -> 171585.6 | ... AX22: =AW21*(1-$D21/1000) -> 121539.72
A23: 7033 | B23: 41 | C23: =A23/F23*1000 -> 33.145604 | D23: =B23/F23*1000 -> 0.19322761 | E23: 20 | F23: 212185 | G23: =F22*(1-$D22/1000) -> 205251 | H23: =G22*(1-$D22/1000) -> 197375.88 | I23: =H22*(1-$D22/1000) -> 188645.18 | J23: =I22*(1-$D22/1000) -> 183584.69 | K23: =J22*(1-$D22/1000) -> 181818.25 | L23: =K22*(1-$D22/1000) -> 176907.02 | M23: =L22*(1-$D22/1000) -> 170535.04 | N23: =M22*(1-$D22/1000) -> 169053.83 | ... AX23: =AW22*(1-$D22/1000) -> 122248.12
A24: 8851 | B24: 36 | C24: =A24/F24*1000 -> 39.129435 | D24: =B24/F24*1000 -> 0.1591526 | E24: 21 | F24: 226198 | G24: =F23*(1-$D23/1000) -> 212144 | H24: =G23*(1-$D23/1000) -> 205211.34 | I24: =H23*(1-$D23/1000) -> 197337.74 | J24: =I23*(1-$D23/1000) -> 188608.72 | K24: =J23*(1-$D23/1000) -> 183549.21 | L24: =K23*(1-$D23/1000) -> 181783.11 | M24: =L23*(1-$D23/1000) -> 176872.84 | N24: =M23*(1-$D23/1000) -> 170502.09 | ... AX24: =AW23*(1-$D23/1000) -> 122755.86
A25: 10616 | B25: 48 | C25: =A25/F25*1000 -> 45.169278 | D25: =B25/F25*1000 -> 0.20423185 | E25: 22 | F25: 235027 | G25: =F24*(1-$D24/1000) -> 226162 | H25: =G24*(1-$D24/1000) -> 212110.24 | I25: =H24*(1-$D24/1000) -> 205178.68 | J25: =I24*(1-$D24/1000) -> 197306.33 | K25: =J24*(1-$D24/1000) -> 188578.71 | L25: =K24*(1-$D24/1000) -> 183520 | M25: =L24*(1-$D24/1000) -> 181754.18 | N25: =M24*(1-$D24/1000) -> 176844.69 | ... AX25: =AW24*(1-$D24/1000) -> 123062.59
A26: 13109 | B26: 58 | C26: =A26/F26*1000 -> 53.637918 | D26: =B26/F26*1000 -> 0.23731782 | E26: 23 | F26: 244398 | G26: =F25*(1-$D25/1000) -> 234979 | H26: =G25*(1-$D25/1000) -> 226115.81 | I26: =H25*(1-$D25/1000) -> 212066.92 | J26: =I25*(1-$D25/1000) -> 205136.78 | K26: =J25*(1-$D25/1000) -> 197266.04 | L26: =K25*(1-$D25/1000) -> 188540.19 | M26: =L25*(1-$D25/1000) -> 183482.52 | N26: =M25*(1-$D25/1000) -> 181717.06 | ... AX26: =AW25*(1-$D25/1000) -> 123204.81
A27: 16161 | B27: 63 | C27: =A27/F27*1000 -> 62.564845 | D27: =B27/F27*1000 -> 0.24389489 | E27: 24 | F27: 258308 | G27: =F26*(1-$D26/1000) -> 244340 | H27: =G26*(1-$D26/1000) -> 234923.24 | I27: =H26*(1-$D26/1000) -> 226062.15 | J27: =I26*(1-$D26/1000) -> 212016.59 | K27: =J26*(1-$D26/1000) -> 205088.09 | L27: =K26*(1-$D26/1000) -> 197219.22 | M27: =L26*(1-$D26/1000) -> 188495.45 | N27: =M26*(1-$D26/1000) -> 183438.98 | ... AX27: =AW26*(1-$D26/1000) -> 123274.83
A28: 20131 | B28: 68 | C28: =A28/F28*1000 -> 76.181934 | D28: =B28/F28*1000 -> 0.25733305 | E28: 25 | F28: 264249 | G28: =F27*(1-$D27/1000) -> 258245 | H28: =G27*(1-$D27/1000) -> 244280.41 | I28: =H27*(1-$D27/1000) -> 234865.94 | J28: =I27*(1-$D27/1000) -> 226007.01 | K28: =J27*(1-$D27/1000) -> 211964.88 | L28: =K27*(1-$D27/1000) -> 205038.07 | M28: =L27*(1-$D27/1000) -> 197171.12 | N28: =M27*(1-$D27/1000) -> 188449.48 | ... AX28: =AW27*(1-$D27/1000) -> 123380.21
A29: 23453 | B29: 71 | C29: =A29/F29*1000 -> 88.271714 | D29: =B29/F29*1000 -> 0.26722772 | E29: 26 | F29: 265691 | G29: =F28*(1-$D28/1000) -> 264181 | H29: =G28*(1-$D28/1000) -> 258178.55 | I29: =H28*(1-$D28/1000) -> 244217.55 | J29: =I28*(1-$D28/1000) -> 234805.5 | K29: =J28*(1-$D28/1000) -> 225948.85 | L29: =K28*(1-$D28/1000) -> 211910.33 | M29: =L28*(1-$D28/1000) -> 204985.31 | N29: =M28*(1-$D28/1000) -> 197120.38 | ... AX29: =AW28*(1-$D28/1000) -> 123665.59
... A52: 8 | B52: 490 | C52: =A52/F52*1000 -> 0.035384609 | D52: =B52/F52*1000 -> 2.1673073 | E52: 49 | F52: 226087 | G52: =F51*(1-$D51/1000) -> 223977 | H52: =G51*(1-$D51/1000) -> 225351.21 | I52: =H51*(1-$D51/1000) -> 229037.25 | J52: =I51*(1-$D51/1000) -> 236204.24 | K52: =J51*(1-$D51/1000) -> 244013.81 | L52: =K51*(1-$D51/1000) -> 252549.29 | M52: =L51*(1-$D51/1000) -> 261760.52 | N52: =M51*(1-$D51/1000) -> 271410.44 | ... AX52: =AW51*(1-$D51/1000) -> 196138.95
B53: 564 | D53: =B53/F53*1000 -> 2.4626778 | E53: 50 | F53: 229019 | G53: =F52*(1-$D52/1000) -> 225597 | H53: =G52*(1-$D52/1000) -> 223491.57 | I53: =H52*(1-$D52/1000) -> 224862.81 | J53: =I52*(1-$D52/1000) -> 228540.86 | K53: =J52*(1-$D52/1000) -> 235692.31 | L53: =K52*(1-$D52/1000) -> 243484.95 | M53: =L52*(1-$D52/1000) -> 252001.94 | N53: =M52*(1-$D52/1000) -> 261193.21 | ... AX53: =AW52*(1-$D52/1000) -> 203979.89
B54: 673 | D54: =B54/F54*1000 -> 2.8685415 | E54: 51 | F54: 234614 | G54: =F53*(1-$D53/1000) -> 228455 | H54: =G53*(1-$D53/1000) -> 225041.43 | I54: =H53*(1-$D53/1000) -> 222941.19 | J54: =I53*(1-$D53/1000) -> 224309.04 | K54: =J53*(1-$D53/1000) -> 227978.03 | L54: =K53*(1-$D53/1000) -> 235111.87 | M54: =L53*(1-$D53/1000) -> 242885.33 | N54: =M53*(1-$D53/1000) -> 251381.34 | ... AX54: =AW53*(1-$D53/1000) -> 202481.33
B55: 727 | D55: =B55/F55*1000 -> 3.0197426 | E55: 52 | F55: 240749 | G55: =F54*(1-$D54/1000) -> 233941 | H55: =G54*(1-$D54/1000) -> 227799.67 | I55: =H54*(1-$D54/1000) -> 224395.89 | J55: =I54*(1-$D54/1000) -> 222301.67 | K55: =J54*(1-$D54/1000) -> 223665.6 | L55: =K54*(1-$D54/1000) -> 227324.07 | M55: =L54*(1-$D54/1000) -> 234437.45 | N55: =M54*(1-$D54/1000) -> 242188.6 | ... AX55: =AW54*(1-$D54/1000) -> 188751.36
B56: 815 | D56: =B56/F56*1000 -> 3.3494022 | E56: 53 | F56: 243327 | G56: =F55*(1-$D55/1000) -> 240022 | H56: =G55*(1-$D55/1000) -> 233234.56 | I56: =H55*(1-$D55/1000) -> 227111.77 | J56: =I55*(1-$D55/1000) -> 223718.27 | K56: =J55*(1-$D55/1000) -> 221630.38 | L56: =K55*(1-$D55/1000) -> 222990.19 | M56: =L55*(1-$D55/1000) -> 226637.61 | N56: =M55*(1-$D55/1000) -> 233729.51 | ... AX56: =AW55*(1-$D55/1000) -> 178742.58
B57: 977 | D57: =B57/F57*1000 -> 3.857589 | E57: 54 | F57: 253267 | G57: =F56*(1-$D56/1000) -> 242512 | H57: =G56*(1-$D56/1000) -> 239218.07 | I57: =H56*(1-$D56/1000) -> 232453.36 | J57: =I56*(1-$D56/1000) -> 226351.08 | K57: =J56*(1-$D56/1000) -> 222968.95 | L57: =K56*(1-$D56/1000) -> 220888.05 | M57: =L56*(1-$D56/1000) -> 222243.31 | N57: =M56*(1-$D56/1000) -> 225878.51 | ... AX57: =AW56*(1-$D56/1000) -> 171724.23
B58: 1051 | D58: =B58/F58*1000 -> 3.9067292 | E58: 55 | F58: 269023 | G58: =F57*(1-$D57/1000) -> 252290 | H58: =G57*(1-$D57/1000) -> 241576.49 | I58: =H57*(1-$D57/1000) -> 238295.26 | J58: =I57*(1-$D57/1000) -> 231556.65 | K58: =J57*(1-$D57/1000) -> 225477.91 | L58: =K57*(1-$D57/1000) -> 222108.82 | M58: =L57*(1-$D57/1000) -> 220035.95 | N58: =M57*(1-$D57/1000) -> 221385.98 | ... AX58: =AW57*(1-$D57/1000) -> 165149.22
B59: 1303 | D59: =B59/F59*1000 -> 4.5406867 | E59: 56 | F59: 286961 | G59: =F58*(1-$D58/1000) -> 267972 | H59: =G58*(1-$D58/1000) -> 251304.37 | I59: =H58*(1-$D58/1000) -> 240632.71 | J59: =I58*(1-$D58/1000) -> 237364.31 | K59: =J58*(1-$D58/1000) -> 230652.02 | L59: =K58*(1-$D58/1000) -> 224597.03 | M59: =L58*(1-$D58/1000) -> 221241.1 | N59: =M58*(1-$D58/1000) -> 219176.33 | ... AX59: =AW58*(1-$D58/1000) -> 162115.44
B60: 1538 | D60: =B60/F60*1000 -> 5.1722167 | E60: 57 | F60: 297358 | G60: =F59*(1-$D59/1000) -> 285658 | H60: =G59*(1-$D59/1000) -> 266755.22 | I60: =H59*(1-$D59/1000) -> 250163.28 | J60: =I59*(1-$D59/1000) -> 239540.08 | K60: =J59*(1-$D59/1000) -> 236286.51 | L60: =K59*(1-$D59/1000) -> 229604.7 | M60: =L59*(1-$D59/1000) -> 223577.21 | N60: =M59*(1-$D59/1000) -> 220236.52 | ... AX60: =AW59*(1-$D59/1000) -> 162793.29
B61: 1716 | D61: =B61/F61*1000 -> 5.665685 | E61: 58 | F61: 302876 | G61: =F60*(1-$D60/1000) -> 295820 | H61: =G60*(1-$D60/1000) -> 284180.51 | I61: =H60*(1-$D60/1000) -> 265375.51 | J61: =I60*(1-$D60/1000) -> 248869.38 | K61: =J60*(1-$D60/1000) -> 238301.12 | L61: =K60*(1-$D60/1000) -> 235064.39 | M61: =L60*(1-$D60/1000) -> 228417.14 | N61: =M60*(1-$D60/1000) -> 222420.82 | ... AX61: =AW60*(1-$D60/1000) -> 168002.54
B62: 1788 | D62: =B62/F62*1000 -> 5.9628821 | E62: 59 | F62: 299855 | G62: =F61*(1-$D61/1000) -> 301160 | H62: =G61*(1-$D61/1000) -> 294143.98 | I62: =H61*(1-$D61/1000) -> 282570.44 | J62: =I61*(1-$D61/1000) -> 263871.97 | K62: =J61*(1-$D61/1000) -> 247459.36 | L62: =K61*(1-$D61/1000) -> 236950.98 | M62: =L61*(1-$D61/1000) -> 233732.59 | N62: =M61*(1-$D61/1000) -> 227123 | ... AX62: =AW61*(1-$D61/1000) -> 171688.29
B63: 2041 | D63: =B63/F63*1000 -> 6.7395102 | E63: 60 | F63: 302841 | G63: =F62*(1-$D62/1000) -> 298067 | H63: =G62*(1-$D62/1000) -> 299364.22 | I63: =H62*(1-$D62/1000) -> 292390.03 | J63: =I62*(1-$D62/1000) -> 280885.5 | K63: =J62*(1-$D62/1000) -> 262298.54 | L63: =K62*(1-$D62/1000) -> 245983.79 | M63: =L62*(1-$D62/1000) -> 235538.07 | N63: =M62*(1-$D62/1000) -> 232338.87 | ... AX63: =AW62*(1-$D62/1000) -> 172322.61
...

Sheet Mężczyźni
A1: Liczba zgonów | B1: Wskaźnik umieralności | C1: Wiek populacji | D1: Liczba osób | E1: Liczba osób | F1: Liczba osób | G1: Liczba osób | H1: Liczba osób | I1: Liczba osób | J1: Liczba osób | K1: Liczba osób | L1: Liczba osób | M1: Liczba osób | N1: Liczba osób | O1: Liczba osób | P1: Liczba osób | Q1: Liczba osób | R1: Liczba osób | S1: Liczba osób | T1: Liczba osób | U1: Liczba osób | V1: Liczba osób | W1: Liczba osób | X1: Liczba osób | Y1: Liczba osób | Z1: Liczba osób | AA1: Liczba osób | AB1: Liczba osób | AC1: Liczba osób | AD1: Liczba osób | AE1: Liczba osób | AF1: Liczba osób | AG1: Liczba osób | AH1: Liczba osób | AI1: Liczba osób | AJ1: Liczba osób | AK1: Liczba osób | AL1: Liczba osób | AM1: Liczba osób | AN1: Liczba osób | AO1: Liczba osób | AP1: Liczba osób | AQ1: Liczba osób | AR1: Liczba osób | AS1: Liczba osób | AT1: Liczba osób | AU1: Liczba osób | AV1: Liczba osób
A2: M | D2: 2016 | E2: 2017 | F2: 2018 | G2: 2019 | H2: 2020 | I2: 2021 | J2: 2022 | K2: 2023 | L2: 2024 | M2: 2025 | N2: 2026 | O2: 2027 | P2: 2028 | Q2: 2029 | R2: 2030 | S2: 2031 | T2: 2032 | U2: 2033 | V2: 2034 | W2: 2035 | X2: 2036 | Y2: 2037 | Z2: 2038 | AA2: 2039 | AB2: 2040 | AC2: 2041 | AD2: 2042 | AE2: 2043 | AF2: 2044 | AG2: 2045 | AH2: 2046 | AI2: 2047 | AJ2: 2048 | AK2: 2049 | AL2: 2050 | AM2: 2051 | AN2: 2052 | AO2: 2053 | AP2: 2054 | AQ2: 2055 | AR2: 2056 | AS2: 2057 | AT2: 2058 | AU2: 2059 | AV2: 2060
A3: 868 | B3: =A3/D3*1000 -> 4.6653122 | C3: 0 | D3: 186054 | E3: =Kobiety!G3/0.485*0.515 -> 193259.32 | F3: =Kobiety!H3/0.485*0.515 -> 189198.48 | G3: =Kobiety!I3/0.485*0.515 -> 184773.89 | H3: =Kobiety!J3/0.485*0.515 -> 180054.02 | I3: =Kobiety!K3/0.485*0.515 -> 175103.55 | J3: =Kobiety!L3/0.485*0.515 -> 170037.31 | K3: =Kobiety!M3/0.485*0.515 -> 164958.49 | L3: =Kobiety!N3/0.485*0.515 -> 160005.74 | ... AV3: =Kobiety!AX3/0.485*0.515 -> 92960.52
A4: 47 | B4: =A4/D4*1000 -> 0.24391889 | C4: 1 | D4: 192687 | E4: =D3*(1-$B3/1000) -> 185186 | F4: =E3*(1-$B3/1000) -> 192357.71 | G4: =F3*(1-$B3/1000) -> 188315.81 | H4: =G3*(1-$B3/1000) -> 183911.86 | I4: =H3*(1-$B3/1000) -> 179214.01 | J4: =I3*(1-$B3/1000) -> 174286.64 | K4: =J3*(1-$B3/1000) -> 169244.04 | L4: =K3*(1-$B3/1000) -> 164188.91 | ... AV4: =AU3*(1-$B3/1000) -> 93987.989
A5: 33 | B5: =A5/D5*1000 -> 0.17390938 | C5: 2 | D5: 189754 | E5: =D4*(1-$B4/1000) -> 192640 | F5: =E4*(1-$B4/1000) -> 185140.83 | G5: =F4*(1-$B4/1000) -> 192310.79 | H5: =G4*(1-$B4/1000) -> 188269.87 | I5: =H4*(1-$B4/1000) -> 183867.01 | J5: =I4*(1-$B4/1000) -> 179170.29 | K5: =J4*(1-$B4/1000) -> 174244.12 | L5: =K4*(1-$B4/1000) -> 169202.75 | ... AV5: =AU4*(1-$B4/1000) -> 95591.684
A6: 32 | B6: =A6/D6*1000 -> 0.1600144 | C6: 3 | D6: 199982 | E6: =D5*(1-$B5/1000) -> 189721 | F6: =E5*(1-$B5/1000) -> 192606.5 | G6: =F5*(1-$B5/1000) -> 185108.63 | H6: =G5*(1-$B5/1000) -> 192277.34 | I6: =H5*(1-$B5/1000) -> 188237.13 | J6: =I5*(1-$B5/1000) -> 183835.03 | K6: =J5*(1-$B5/1000) -> 179139.14 | L6: =K5*(1-$B5/1000) -> 174213.82 | ... AV6: =AU5*(1-$B5/1000) -> 97365.197
A7: 28 | B7: =A7/D7*1000 -> 0.1400175 | C7: 4 | D7: 199975 | E7: =D6*(1-$B6/1000) -> 199950 | F7: =E6*(1-$B6/1000) -> 189690.64 | G7: =F6*(1-$B6/1000) -> 192575.68 | H7: =G6*(1-$B6/1000) -> 185079.01 | I7: =H6*(1-$B6/1000) -> 192246.57 | J7: =I6*(1-$B6/1000) -> 188207.01 | K7: =J6*(1-$B6/1000) -> 183805.61 | L7: =K6*(1-$B6/1000) -> 179110.47 | ... AV7: =AU6*(1-$B6/1000) -> 99295.753
A8: 16 | B8: =A8/D8*1000 -> 0.075446786 | C8: 5 | D8: 212070 | E8: =D7*(1-$B7/1000) -> 199947 | F8: =E7*(1-$B7/1000) -> 199922 | G8: =F7*(1-$B7/1000) -> 189664.08 | H8: =G7*(1-$B7/1000) -> 192548.71 | I8: =H7*(1-$B7/1000) -> 185053.1 | J8: =I7*(1-$B7/1000) -> 192219.66 | K8: =J7*(1-$B7/1000) -> 188180.66 | L8: =K7*(1-$B7/1000) -> 183779.88 | ... AV8: =AU7*(1-$B7/1000) -> 101369.77
A9: 31 | B9: =A9/D9*1000 -> 0.14129959 | C9: 6 | D9: 219392 | E9: =D8*(1-$B8/1000) -> 212054 | F9: =E8*(1-$B8/1000) -> 199931.91 | G9: =F8*(1-$B8/1000) -> 199906.92 | H9: =G8*(1-$B8/1000) -> 189649.77 | I9: =H8*(1-$B8/1000) -> 192534.19 | J9: =I8*(1-$B8/1000) -> 185039.14 | K9: =J8*(1-$B8/1000) -> 192205.15 | L9: =K8*(1-$B8/1000) -> 188166.46 | ... AV9: =AU8*(1-$B8/1000) -> 103576.65
A10: 19 | B10: =A10/D10*1000 -> 0.087081265 | C10: 7 | D10: 218187 | E10: =D9*(1-$B9/1000) -> 219361 | F10: =E9*(1-$B9/1000) -> 212024.04 | G10: =F9*(1-$B9/1000) -> 199903.66 | H10: =G9*(1-$B9/1000) -> 199878.67 | I10: =H9*(1-$B9/1000) -> 189622.97 | J10: =I9*(1-$B9/1000) -> 192506.98 | K10: =J9*(1-$B9/1000) -> 185012.99 | L10: =K9*(1-$B9/1000) -> 192178 | ... AV10: =AU9*(1-$B9/1000) -> 105873.83
A11: 21 | B11: =A11/D11*1000 -> 0.10270958 | C11: 8 | D11: 204460 | E11: =D10*(1-$B10/1000) -> 218168 | F11: =E10*(1-$B10/1000) -> 219341.9 | G11: =F10*(1-$B10/1000) -> 212005.57 | H11: =G10*(1-$B10/1000) -> 199886.26 | I11: =H10*(1-$B10/1000) -> 199861.27 | J11: =I10*(1-$B10/1000) -> 189606.46 | K11: =J10*(1-$B10/1000) -> 192490.22 | L11: =K10*(1-$B10/1000) -> 184996.88 | ... AV11: =AU10*(1-$B10/1000) -> 108251.3
A12: 23 | B12: =A12/D12*1000 -> 0.11832067 | C12: 9 | D12: 194387 | E12: =D11*(1-$B11/1000) -> 204439 | F12: =E11*(1-$B11/1000) -> 218145.59 | G12: =F11*(1-$B11/1000) -> 219319.37 | H12: =G11*(1-$B11/1000) -> 211983.8 | I12: =H11*(1-$B11/1000) -> 199865.73 | J12: =I11*(1-$B11/1000) -> 199840.74 | K12: =J11*(1-$B11/1000) -> 189586.99 | L12: =K11*(1-$B11/1000) -> 192470.45 | ... AV12: =AU11*(1-$B11/1000) -> 110663.4
A13: 19 | B13: =A13/D13*1000 -> 0.10157277 | C13: 10 | D13: 187058 | E13: =D12*(1-$B12/1000) -> 194364 | F13: =E12*(1-$B12/1000) -> 204414.81 | G13: =F12*(1-$B12/1000) -> 218119.78 | H13: =G12*(1-$B12/1000) -> 219293.42 | I13: =H12*(1-$B12/1000) -> 211958.72 | J13: =I12*(1-$B12/1000) -> 199842.08 | K13: =J12*(1-$B12/1000) -> 199817.09 | L13: =K12*(1-$B12/1000) -> 189564.56 | ... AV13: =AU12*(1-$B12/1000) -> 113066.39
A14: 22 | B14: =A14/D14*1000 -> 0.12111203 | C14: 11 | D14: 181650 | E14: =D13*(1-$B13/1000) -> 187039 | F14: =E13*(1-$B13/1000) -> 194344.26 | G14: =F13*(1-$B13/1000) -> 204394.05 | H14: =G13*(1-$B13/1000) -> 218097.63 | I14: =H13*(1-$B13/1000) -> 219271.14 | J14: =I13*(1-$B13/1000) -> 211937.19 | K14: =J13*(1-$B13/1000) -> 199821.78 | L14: =K13*(1-$B13/1000) -> 199796.8 | ... AV14: =AU13*(1-$B13/1000) -> 115418.2
A15: 26 | B15: =A15/D15*1000 -> 0.1460223 | C15: 12 | D15: 178055 | E15: =D14*(1-$B14/1000) -> 181628 | F15: =E14*(1-$B14/1000) -> 187016.35 | G15: =F14*(1-$B14/1000) -> 194320.72 | H15: =G14*(1-$B14/1000) -> 204369.29 | I15: =H14*(1-$B14/1000) -> 218071.21 | J15: =I14*(1-$B14/1000) -> 219244.59 | K15: =J14*(1-$B14/1000) -> 211911.52 | L15: =K14*(1-$B14/1000) -> 199797.58 | ... AV15: =AU14*(1-$B14/1000) -> 117696.79
... A102: 118 | B102: =A102/D102*1000 -> 330.53221 | C102: 99 | D102: 357 | E102: =D101*(1-$B101/1000) -> 347 | F102: =E101*(1-$B101/1000) -> 285.9664 | G102: =F101*(1-$B101/1000) -> 392.84274 | H102: =G101*(1-$B101/1000) -> 454.65807 | I102: =H101*(1-$B101/1000) -> 462.26519 | J102: =I101*(1-$B101/1000) -> 525.05141 | K102: =J101*(1-$B101/1000) -> 578.136 | L102: =K101*(1-$B101/1000) -> 556.65218 | ... AV102: =AU101*(1-$B101/1000) -> 1360.134
A103: 267 | B103: =A103/D103*1000 -> 256.48415 | C103: 100+ | D103: 1041 | E103: =D102*(1-$B102/1000)+D103*(1-$B103/1000) -> 1013 | F103: =E102*(1-$B102/1000)+E103*(1-$B103/1000) -> 985.48688 | G103: =F102*(1-$B102/1000)+F103*(1-$B103/1000) -> 924.17041 | H103: =G102*(1-$B102/1000)+G103*(1-$B103/1000) -> 950.1309 | I103: =H102*(1-$B102/1000)+H103*(1-$B103/1000) -> 1010.8163 | J103: =I102*(1-$B102/1000)+I103*(1-$B103/1000) -> 1061.0296 | K103: =J102*(1-$B102/1000)+J103*(1-$B103/1000) -> 1140.3973 | L103: =K102*(1-$B102/1000)+K103*(1-$B103/1000) -> 1234.9469 | ... AV103: =AU102*(1-$B102/1000)+AU103*(1-$B103/1000) -> 3859.2303

Sheet Wyniki
A1: Zmiana | B1: 0
A3: Grupa | B3: 2016 | C3: 2017 | D3: 2018 | E3: 2019 | F3: 2020 | G3: 2021 | H3: 2022 | I3: 2023 | J3: 2024 | K3: 2025 | L3: 2026 | M3: 2027 | N3: 2028 | O3: 2029 | P3: 2030 | Q3: 2031 | R3: 2032 | S3: 2033 | T3: 2034 | U3: 2035 | V3: 2036 | W3: 2037 | X3: 2038 | Y3: 2039 | Z3: 2040 | AA3: 2041 | AB3: 2042 | AC3: 2043 | AD3: 2044 | AE3: 2045 | AF3: 2046 | AG3: 2047 | AH3: 2048 | AI3: 2049 | AJ3: 2050 | AK3: 2051 | AL3: 2052 | AM3: 2053 | AN3: 2054 | AO3: 2055 | AP3: 2056 | AQ3: 2057 | AR3: 2058 | AS3: 2059 | AT3: 2060
A4: 1. Ludność [w mln] | B4: =SUM(Kobiety!F3:F103,Mężczyźni!D3:D103)/10^6 -> 37.967209 | C4: =SUM(Kobiety!G3:G103,Mężczyźni!E3:E103)/10^6 -> 37.954461 | D4: =SUM(Kobiety!H3:H103,Mężczyźni!F3:F103)/10^6 -> 37.9241 | E4: =SUM(Kobiety!I3:I103,Mężczyźni!G3:G103)/10^6 -> 37.876612 | F4: =SUM(Kobiety!J3:J103,Mężczyźni!H3:H103)/10^6 -> 37.811817 | G4: =SUM(Kobiety!K3:K103,Mężczyźni!I3:I103)/10^6 -> 37.729902 | H4: =SUM(Kobiety!L3:L103,Mężczyźni!J3:J103)/10^6 -> 37.631217 | I4: =SUM(Kobiety!M3:M103,Mężczyźni!K3:K103)/10^6 -> 37.516065 | ... AT4: =SUM(Kobiety!AX3:AX103,Mężczyźni!AV3:AV103)/10^6 -> 27.208659
A5: 2. Liczba urodzeń (0) [w tys.] | B5: =SUM(Kobiety!F3,Mężczyźni!D3)/1000 -> 362.273 | C5: =SUM(Kobiety!G3,Mężczyźni!E3)/1000 -> 375.26082 | D5: =SUM(Kobiety!H3,Mężczyźni!F3)/1000 -> 367.37568 | E5: =SUM(Kobiety!I3,Mężczyźni!G3)/1000 -> 358.78426 | F5: =SUM(Kobiety!J3,Mężczyźni!H3)/1000 -> 349.61945 | G5: =SUM(Kobiety!K3,Mężczyźni!I3)/1000 -> 340.00689 | H5: =SUM(Kobiety!L3,Mężczyźni!J3)/1000 -> 330.16954 | I5: =SUM(Kobiety!M3,Mężczyźni!K3)/1000 -> 320.30775 | ... AT5: =SUM(Kobiety!AX3,Mężczyźni!AV3)/1000 -> 180.50586
A6: 3. Liczba kandydatów na studia (19) [w tys.] | B6: =SUM(Kobiety!F22,Mężczyźni!D22)/1000 -> 420.478 | C6: =SUM(Kobiety!G22,Mężczyźni!E22)/1000 -> 404.313 | D6: =SUM(Kobiety!H22,Mężczyźni!F22)/1000 -> 387.69832 | E6: =SUM(Kobiety!I22,Mężczyźni!G22)/1000 -> 376.40141 | F6: =SUM(Kobiety!J22,Mężczyźni!H22)/1000 -> 373.03281 | G6: =SUM(Kobiety!K22,Mężczyźni!I22)/1000 -> 363.06087 | H6: =SUM(Kobiety!L22,Mężczyźni!J22)/1000 -> 350.28329 | I6: =SUM(Kobiety!M22,Mężczyźni!K22)/1000 -> 346.77174 | ... AT6: =SUM(Kobiety!AX22,Mężczyźni!AV22)/1000 -> 250.28608
A7: 4. Liczba uczniów szkół podst. (7-12) [w mln] | B7: =SUM(Kobiety!F10:F15,Mężczyźni!D10:D15)/10^6 -> 2.269671 | C7: =SUM(Kobiety!G10:G15,Mężczyźni!E10:E15)/10^6 -> 2.35048 | D7: =SUM(Kobiety!H10:H15,Mężczyźni!F10:F15)/10^6 -> 2.4094111 | E7: =SUM(Kobiety!I10:I15,Mężczyźni!G10:G15)/10^6 -> 2.4328455 | F7: =SUM(Kobiety!J10:J15,Mężczyźni!H10:H15)/10^6 -> 2.4423418 | G7: =SUM(Kobiety!K10:K15,Mężczyźni!I10:I15)/10^6 -> 2.4127539 | H7: =SUM(Kobiety!L10:L15,Mężczyźni!J10:J15)/10^6 -> 2.3610551 | I7: =SUM(Kobiety!M10:M15,Mężczyźni!K10:K15)/10^6 -> 2.2932168 | ... AT7: =SUM(Kobiety!AX10:AX15,Mężczyźni!AV10:AV15)/10^6 -> 1.3036346
A8: 5. Liczba osób w wieku produkcyjnym [w mln] | B8: =SUM(Kobiety!F21:F62,Mężczyźni!D21:D67)/10^6 -> 23.611985 | C8: =SUM(Kobiety!G21:G62,Mężczyźni!E21:E67)/10^6 -> 23.385592 | D8: =SUM(Kobiety!H21:H62,Mężczyźni!F21:F67)/10^6 -> 23.142737 | E8: =SUM(Kobiety!I21:I62,Mężczyźni!G21:G67)/10^6 -> 22.9009 | F8: =SUM(Kobiety!J21:J62,Mężczyźni!H21:H67)/10^6 -> 22.66052 | G8: =SUM(Kobiety!K21:K62,Mężczyźni!I21:I67)/10^6 -> 22.417432 | H8: =SUM(Kobiety!L21:L62,Mężczyźni!J21:J67)/10^6 -> 22.191341 | I8: =SUM(Kobiety!M21:M62,Mężczyźni!K21:K67)/10^6 -> 21.981988 | ... AT8: =SUM(Kobiety!AX21:AX62,Mężczyźni!AV21:AV67)/10^6 -> 13.966352
A9: 6. Liczba osób w wieku poprodukcyjnym [w mln] | B9: =SUM(Kobiety!F63:F103,Mężczyźni!D68:D103)/10^6 -> 7.508091 | C9: =SUM(Kobiety!G63:G103,Mężczyźni!E68:E103)/10^6 -> 7.736793 | D9: =SUM(Kobiety!H63:H103,Mężczyźni!F68:F103)/10^6 -> 7.9609716 | E9: =SUM(Kobiety!I63:I103,Mężczyźni!G68:G103)/10^6 -> 8.1721906 | F9: =SUM(Kobiety!J63:J103,Mężczyźni!H68:H103)/10^6 -> 8.363792 | G9: =SUM(Kobiety!K63:K103,Mężczyźni!I68:I103)/10^6 -> 8.5377674 | H9: =SUM(Kobiety!L63:L103,Mężczyźni!J68:J103)/10^6 -> 8.6842619 | I9: =SUM(Kobiety!M63:M103,Mężczyźni!K68:K103)/10^6 -> 8.8134343 | ... AT9: =SUM(Kobiety!AX63:AX103,Mężczyźni!AV68:AV103)/10^6 -> 9.4101678
A10: 7. Wskaźnik obciążenia | B10: =B8/B9 -> 3.144872 | C10: =C8/C9 -> 3.0226467 | D10: =D8/D9 -> 2.9070242 | E10: =E8/E9 -> 2.8022964 | F10: =F8/F9 -> 2.7093595 | G10: =G8/G9 -> 2.6256785 | H10: =H8/H9 -> 2.5553514 | I10: =I8/I9 -> 2.4941456 | ... AT10: =AT8/AT9 -> 1.4841767
A12: Grupa | B12: 2020 | C12: 2030 | D12: 2045 | E12: 2060
A13: 1. Ludność [w mln] | B13: =INDEX($B4:$AT4,1,B$12-2015) -> 37.811817 | C13: =INDEX($B4:$AT4,1,C$12-2015) -> 36.309259 | D13: =INDEX($B4:$AT4,1,D$12-2015) -> 32.191228 | E13: =INDEX($B4:$AT4,1,E$12-2015) -> 27.208659
A14: 2. Liczba urodzeń [w tys.] | B14: =INDEX($B5:$AT5,1,B$12-2015) -> 349.61945 | C14: =INDEX($B5:$AT5,1,C$12-2015) -> 267.67512 | D14: =INDEX($B5:$AT5,1,D$12-2015) -> 241.68848 | E14: =INDEX($B5:$AT5,1,E$12-2015) -> 180.50586
A15: 3. Liczba kandydatów na studia (19) [w tys.] | B15: =INDEX($B6:$AT6,1,B$12-2015) -> 373.03281 | C15: =INDEX($B6:$AT6,1,C$12-2015) -> 411.65968 | D15: =INDEX($B6:$AT6,1,D$12-2015) -> 291.03335 | E15: =INDEX($B6:$AT6,1,E$12-2015) -> 250.28608
A16: 4. Liczba uczniów szkół podst. (7-12) [w mln] | B16: =INDEX($B7:$AT7,1,B$12-2015) -> 2.4423418 | C16: =INDEX($B7:$AT7,1,C$12-2015) -> 2.0553936 | D16: =INDEX($B7:$AT7,1,D$12-2015) -> 1.5302073 | E16: =INDEX($B7:$AT7,1,E$12-2015) -> 1.3036346
A17: 5. Liczba osób w wieku produkcyjnym1) [w mln] | B17: =INDEX($B8:$AT8,1,B$12-2015) -> 22.66052 | C17: =INDEX($B8:$AT8,1,C$12-2015) -> 21.19494 | D17: =INDEX($B8:$AT8,1,D$12-2015) -> 17.859692 | E17: =INDEX($B8:$AT8,1,E$12-2015) -> 13.966352
A18: 6. Liczba osób w wieku poprodukcyjnym [w mln] | B18: =INDEX($B9:$AT9,1,B$12-2015) -> 8.363792 | C18: =INDEX($B9:$AT9,1,C$12-2015) -> 9.1926554 | D18: =INDEX($B9:$AT9,1,D$12-2015) -> 9.7284097 | E18: =INDEX($B9:$AT9,1,E$12-2015) -> 9.4101678
A19: 7. Wskaźnik obciążenia | B19: =INDEX($B10:$AT10,1,B$12-2015) -> 2.7093595 | C19: =INDEX($B10:$AT10,1,C$12-2015) -> 2.3056385 | D19: =INDEX($B10:$AT10,1,D$12-2015) -> 1.8358285 | E19: =INDEX($B10:$AT10,1,E$12-2015) -> 1.4841767
